BEGIN:VCALENDAR
VERSION:2.0
PRODID:-//Saalfelden-Leogang.com//NONSGML kigkonsult.se iCalcreator 2.22.1/
 /DE
METHOD:PUBLISH
X-WR-CALNAME;LANGUAGE=de:Saalfelden-Leogang.com
X-WR-CALDESC;LANGUAGE=de:Saalfelden-Leogang.com
X-WR-TIMEZONE;LANGUAGE=de:Europe/Berlin
BEGIN:VEVENT
UID:20260425T152218CEST-97055j0TFl@Saalfelden-Leogang.com
DTSTAMP:20260425T132218Z
DESCRIPTION;LANGUAGE=de:Vernissage mit dem Tiroler Künstler Hannes Seebache
 r und seiner Serie 'AnimaminA'. \n\n„Flüstere zu den Felsen\, in dem Verst
 eckten lauscht etwas\, nimmt das Wort entgegen\, führt es weiter und volle
 ndet es.“Ailo GaupANIMAMINA – Seelenkörper/Körperseele & Anima – das Weibl
 iche im Männlichen\n\n\n\nUm den bestmöglichen Ausdruck in seinen Arbeiten
  zu erreichen\, greift der 1969 in Tirol geborene Künstler\, Hannes Seebac
 her auf unterschiedlichste Medien zu.\n\n\n\nIn seiner Serie AnimaminA ist
  die Grundlage für diese Druckgrafiken das Foto.\n\nDabei wurden die 2019 
 im Scoresbysund/ Ostgrönland in Hochkontrast monochrom fotografierten Eisb
 erge grafisch an der Wasserlinie gespiegelt und so verändert\, daß diese a
 uf den ersten Blick nicht mehr als solche erkennbar sind.\n\n\n\nAnimaminA
  ist ein aus dieser Vorgehensweise erfundenes Wort\, ein Kunstwort\, welch
 es sich auf die in früherer Zeit dort nomadisch lebenden Kulturen der Inui
 t bezieht. Die Sicht auf die Welt\, auf das Leben dieser Kulturen wird als
  „primitiver Animismus“ bezeichnet\n\nund besagt das alles in der Natur be
 seelt ist.\n\n\n\nFür Seebacher ist dies weder primitiv noch ein Glaube\, 
 denn sein Weltbild bringt alles mit Allem in Verbindung.\n\n\n\nDen Klimaw
 andel sieht Seebacher als erdgeschichtlich rhythmisch\, zyklisch und im ei
 gentlichen Sinn des Wortes „apokalyptisch“ …. nämlich „das Lüften des Schl
 eiers“\n\nDie rapide Veränderung der arktischen Systeme\, das Schmelzen de
 s Eises\, ist für Ihn ein Spiegel der Veränderung\, des Umbruchs „unserer 
 gesellschaftlich etablierten Systeme“!\n\n\n\n„Wir erleben gerade den fund
 amentalen Umbruch dieser Systeme\, wie Wissenschaft\, Religion\, Politik\,
  Kultur bis hin zur Selbstwahrnehmung !“\n\nDer Eintritt ist frei.
DTSTART:20230923T153000Z
DTEND:20230923T173000Z
LOCATION;LANGUAGE=de:Puradies
SUMMARY;LANGUAGE=de:Vernissage mit Hannes Seebacher
END:VEVENT
END:VCALENDAR
